BEGIN:VCALENDAR
VERSION:2.0
PRODID:Zwift Calendar - by David Collom
METHOD:REQUEST
BEGIN:VEVENT
UID:5544897
SUMMARY:[Watopia] Team Not Pogi - Spring Championship 2026
LOCATION:Watopia
DESCRIPTION:Come join Team Not Pogi and see if you have what it takes to
  become our Spring Champion\nAll riders and clubs welcome to attend.
DTSTART:20260423T173000Z
DTEND:20260423T173000Z
URL:https://cdn.zwift.com/static/events_headers/cycling/clubs/TNP-july2025.
 jpg
CLASS:PUBLIC
LAST-MODIFIED:20260422T153200Z
END:VEVENT
END:VCALENDAR
