BEGIN:VCALENDAR
VERSION:2.0
PRODID:Zwift Calendar - by David Collom
METHOD:REQUEST
BEGIN:VEVENT
UID:5531885
SUMMARY:[New York] Workout 3 - Zwift Camp: Breakthrough
LOCATION:New York
DESCRIPTION:Outdoor miles are right around the corner\, and these five
  Zwift Camp: Breakthrough workouts get you ready for them. Sharpen your
  speed\, smooth your pedal stroke\, and build the strength you need for
  hills and longer rides outside.\n\nWorkout 3: Cadence Mastery\nDial in
  your cadence and watch everything else fall into place. This workout will
  have you switching between high and low cadence\, all while keeping power
  steady\, so outdoor riding feels more composed. \n
DTSTART:20260421T100000Z
DTEND:20260421T104500Z
URL:https://cdn.zwift.com/static/events_headers/cycling/special/Zwift-Camp-
 Breakthrough-april-2026.png
CLASS:PUBLIC
LAST-MODIFIED:20260421T093606Z
END:VEVENT
BEGIN:VEVENT
UID:5531752
SUMMARY:[New York] Workout 3 - Zwift Camp: Breakthrough
LOCATION:New York
DESCRIPTION:Outdoor miles are right around the corner\, and these five
  Zwift Camp: Breakthrough workouts get you ready for them. Sharpen your
  speed\, smooth your pedal stroke\, and build the strength you need for
  hills and longer rides outside.\n\nWorkout 3: Cadence Mastery\nDial in
  your cadence and watch everything else fall into place. This workout will
  have you switching between high and low cadence\, all while keeping power
  steady\, so outdoor riding feels more composed. \n
DTSTART:20260421T110000Z
DTEND:20260421T114500Z
URL:https://cdn.zwift.com/static/events_headers/cycling/special/Zwift-Camp-
 Breakthrough-april-2026.png
CLASS:PUBLIC
LAST-MODIFIED:20260421T093606Z
END:VEVENT
BEGIN:VEVENT
UID:5531810
SUMMARY:[New York] Workout 3 - Zwift Camp: Breakthrough
LOCATION:New York
DESCRIPTION:Outdoor miles are right around the corner\, and these five
  Zwift Camp: Breakthrough workouts get you ready for them. Sharpen your
  speed\, smooth your pedal stroke\, and build the strength you need for
  hills and longer rides outside.\n\nWorkout 3: Cadence Mastery\nDial in
  your cadence and watch everything else fall into place. This workout will
  have you switching between high and low cadence\, all while keeping power
  steady\, so outdoor riding feels more composed. \n
DTSTART:20260421T120000Z
DTEND:20260421T124500Z
URL:https://cdn.zwift.com/static/events_headers/cycling/special/Zwift-Camp-
 Breakthrough-april-2026.png
CLASS:PUBLIC
LAST-MODIFIED:20260421T093606Z
END:VEVENT
BEGIN:VEVENT
UID:5531854
SUMMARY:[New York] Workout 3 - Zwift Camp: Breakthrough
LOCATION:New York
DESCRIPTION:Outdoor miles are right around the corner\, and these five
  Zwift Camp: Breakthrough workouts get you ready for them. Sharpen your
  speed\, smooth your pedal stroke\, and build the strength you need for
  hills and longer rides outside.\n\nWorkout 3: Cadence Mastery\nDial in
  your cadence and watch everything else fall into place. This workout will
  have you switching between high and low cadence\, all while keeping power
  steady\, so outdoor riding feels more composed. \n
DTSTART:20260421T130000Z
DTEND:20260421T134500Z
URL:https://cdn.zwift.com/static/events_headers/cycling/special/Zwift-Camp-
 Breakthrough-april-2026.png
CLASS:PUBLIC
LAST-MODIFIED:20260421T093606Z
END:VEVENT
BEGIN:VEVENT
UID:5531889
SUMMARY:[New York] Workout 3 - Zwift Camp: Breakthrough
LOCATION:New York
DESCRIPTION:Outdoor miles are right around the corner\, and these five
  Zwift Camp: Breakthrough workouts get you ready for them. Sharpen your
  speed\, smooth your pedal stroke\, and build the strength you need for
  hills and longer rides outside.\n\nWorkout 3: Cadence Mastery\nDial in
  your cadence and watch everything else fall into place. This workout will
  have you switching between high and low cadence\, all while keeping power
  steady\, so outdoor riding feels more composed. \n
DTSTART:20260421T140000Z
DTEND:20260421T144500Z
URL:https://cdn.zwift.com/static/events_headers/cycling/special/Zwift-Camp-
 Breakthrough-april-2026.png
CLASS:PUBLIC
LAST-MODIFIED:20260421T093606Z
END:VEVENT
BEGIN:VEVENT
UID:5531786
SUMMARY:[New York] Workout 3 - Zwift Camp: Breakthrough
LOCATION:New York
DESCRIPTION:Outdoor miles are right around the corner\, and these five
  Zwift Camp: Breakthrough workouts get you ready for them. Sharpen your
  speed\, smooth your pedal stroke\, and build the strength you need for
  hills and longer rides outside.\n\nWorkout 3: Cadence Mastery\nDial in
  your cadence and watch everything else fall into place. This workout will
  have you switching between high and low cadence\, all while keeping power
  steady\, so outdoor riding feels more composed. \n
DTSTART:20260421T150000Z
DTEND:20260421T154500Z
URL:https://cdn.zwift.com/static/events_headers/cycling/special/Zwift-Camp-
 Breakthrough-april-2026.png
CLASS:PUBLIC
LAST-MODIFIED:20260421T093606Z
END:VEVENT
BEGIN:VEVENT
UID:5531839
SUMMARY:[New York] Workout 3 - Zwift Camp: Breakthrough
LOCATION:New York
DESCRIPTION:Outdoor miles are right around the corner\, and these five
  Zwift Camp: Breakthrough workouts get you ready for them. Sharpen your
  speed\, smooth your pedal stroke\, and build the strength you need for
  hills and longer rides outside.\n\nWorkout 3: Cadence Mastery\nDial in
  your cadence and watch everything else fall into place. This workout will
  have you switching between high and low cadence\, all while keeping power
  steady\, so outdoor riding feels more composed. \n
DTSTART:20260421T160000Z
DTEND:20260421T164500Z
URL:https://cdn.zwift.com/static/events_headers/cycling/special/Zwift-Camp-
 Breakthrough-april-2026.png
CLASS:PUBLIC
LAST-MODIFIED:20260421T093606Z
END:VEVENT
BEGIN:VEVENT
UID:5531876
SUMMARY:[New York] Workout 3 - Zwift Camp: Breakthrough
LOCATION:New York
DESCRIPTION:Outdoor miles are right around the corner\, and these five
  Zwift Camp: Breakthrough workouts get you ready for them. Sharpen your
  speed\, smooth your pedal stroke\, and build the strength you need for
  hills and longer rides outside.\n\nWorkout 3: Cadence Mastery\nDial in
  your cadence and watch everything else fall into place. This workout will
  have you switching between high and low cadence\, all while keeping power
  steady\, so outdoor riding feels more composed. \n
DTSTART:20260421T170000Z
DTEND:20260421T174500Z
URL:https://cdn.zwift.com/static/events_headers/cycling/special/Zwift-Camp-
 Breakthrough-april-2026.png
CLASS:PUBLIC
LAST-MODIFIED:20260421T093606Z
END:VEVENT
BEGIN:VEVENT
UID:5531753
SUMMARY:[New York] Workout 3 - Zwift Camp: Breakthrough
LOCATION:New York
DESCRIPTION:Outdoor miles are right around the corner\, and these five
  Zwift Camp: Breakthrough workouts get you ready for them. Sharpen your
  speed\, smooth your pedal stroke\, and build the strength you need for
  hills and longer rides outside.\n\nWorkout 3: Cadence Mastery\nDial in
  your cadence and watch everything else fall into place. This workout will
  have you switching between high and low cadence\, all while keeping power
  steady\, so outdoor riding feels more composed. \n
DTSTART:20260421T180000Z
DTEND:20260421T184500Z
URL:https://cdn.zwift.com/static/events_headers/cycling/special/Zwift-Camp-
 Breakthrough-april-2026.png
CLASS:PUBLIC
LAST-MODIFIED:20260421T093606Z
END:VEVENT
BEGIN:VEVENT
UID:5531811
SUMMARY:[New York] Workout 3 - Zwift Camp: Breakthrough
LOCATION:New York
DESCRIPTION:Outdoor miles are right around the corner\, and these five
  Zwift Camp: Breakthrough workouts get you ready for them. Sharpen your
  speed\, smooth your pedal stroke\, and build the strength you need for
  hills and longer rides outside.\n\nWorkout 3: Cadence Mastery\nDial in
  your cadence and watch everything else fall into place. This workout will
  have you switching between high and low cadence\, all while keeping power
  steady\, so outdoor riding feels more composed. \n
DTSTART:20260421T190000Z
DTEND:20260421T194500Z
URL:https://cdn.zwift.com/static/events_headers/cycling/special/Zwift-Camp-
 Breakthrough-april-2026.png
CLASS:PUBLIC
LAST-MODIFIED:20260421T093606Z
END:VEVENT
BEGIN:VEVENT
UID:5531855
SUMMARY:[New York] Workout 3 - Zwift Camp: Breakthrough
LOCATION:New York
DESCRIPTION:Outdoor miles are right around the corner\, and these five
  Zwift Camp: Breakthrough workouts get you ready for them. Sharpen your
  speed\, smooth your pedal stroke\, and build the strength you need for
  hills and longer rides outside.\n\nWorkout 3: Cadence Mastery\nDial in
  your cadence and watch everything else fall into place. This workout will
  have you switching between high and low cadence\, all while keeping power
  steady\, so outdoor riding feels more composed. \n
DTSTART:20260421T200000Z
DTEND:20260421T204500Z
URL:https://cdn.zwift.com/static/events_headers/cycling/special/Zwift-Camp-
 Breakthrough-april-2026.png
CLASS:PUBLIC
LAST-MODIFIED:20260421T093606Z
END:VEVENT
BEGIN:VEVENT
UID:5531902
SUMMARY:[New York] Workout 3 - Zwift Camp: Breakthrough
LOCATION:New York
DESCRIPTION:Outdoor miles are right around the corner\, and these five
  Zwift Camp: Breakthrough workouts get you ready for them. Sharpen your
  speed\, smooth your pedal stroke\, and build the strength you need for
  hills and longer rides outside.\n\nWorkout 3: Cadence Mastery\nDial in
  your cadence and watch everything else fall into place. This workout will
  have you switching between high and low cadence\, all while keeping power
  steady\, so outdoor riding feels more composed. \n
DTSTART:20260421T210000Z
DTEND:20260421T214500Z
URL:https://cdn.zwift.com/static/events_headers/cycling/special/Zwift-Camp-
 Breakthrough-april-2026.png
CLASS:PUBLIC
LAST-MODIFIED:20260421T093606Z
END:VEVENT
BEGIN:VEVENT
UID:5531787
SUMMARY:[New York] Workout 3 - Zwift Camp: Breakthrough
LOCATION:New York
DESCRIPTION:Outdoor miles are right around the corner\, and these five
  Zwift Camp: Breakthrough workouts get you ready for them. Sharpen your
  speed\, smooth your pedal stroke\, and build the strength you need for
  hills and longer rides outside.\n\nWorkout 3: Cadence Mastery\nDial in
  your cadence and watch everything else fall into place. This workout will
  have you switching between high and low cadence\, all while keeping power
  steady\, so outdoor riding feels more composed. \n
DTSTART:20260421T220000Z
DTEND:20260421T224500Z
URL:https://cdn.zwift.com/static/events_headers/cycling/special/Zwift-Camp-
 Breakthrough-april-2026.png
CLASS:PUBLIC
LAST-MODIFIED:20260421T093606Z
END:VEVENT
BEGIN:VEVENT
UID:5531840
SUMMARY:[New York] Workout 3 - Zwift Camp: Breakthrough
LOCATION:New York
DESCRIPTION:Outdoor miles are right around the corner\, and these five
  Zwift Camp: Breakthrough workouts get you ready for them. Sharpen your
  speed\, smooth your pedal stroke\, and build the strength you need for
  hills and longer rides outside.\n\nWorkout 3: Cadence Mastery\nDial in
  your cadence and watch everything else fall into place. This workout will
  have you switching between high and low cadence\, all while keeping power
  steady\, so outdoor riding feels more composed. \n
DTSTART:20260421T230000Z
DTEND:20260421T234500Z
URL:https://cdn.zwift.com/static/events_headers/cycling/special/Zwift-Camp-
 Breakthrough-april-2026.png
CLASS:PUBLIC
LAST-MODIFIED:20260421T093606Z
END:VEVENT
BEGIN:VEVENT
UID:5531877
SUMMARY:[New York] Workout 3 - Zwift Camp: Breakthrough
LOCATION:New York
DESCRIPTION:Outdoor miles are right around the corner\, and these five
  Zwift Camp: Breakthrough workouts get you ready for them. Sharpen your
  speed\, smooth your pedal stroke\, and build the strength you need for
  hills and longer rides outside.\n\nWorkout 3: Cadence Mastery\nDial in
  your cadence and watch everything else fall into place. This workout will
  have you switching between high and low cadence\, all while keeping power
  steady\, so outdoor riding feels more composed. \n
DTSTART:20260422T000000Z
DTEND:20260422T004500Z
URL:https://cdn.zwift.com/static/events_headers/cycling/special/Zwift-Camp-
 Breakthrough-april-2026.png
CLASS:PUBLIC
LAST-MODIFIED:20260421T093606Z
END:VEVENT
BEGIN:VEVENT
UID:5531754
SUMMARY:[New York] Workout 3 - Zwift Camp: Breakthrough
LOCATION:New York
DESCRIPTION:Outdoor miles are right around the corner\, and these five
  Zwift Camp: Breakthrough workouts get you ready for them. Sharpen your
  speed\, smooth your pedal stroke\, and build the strength you need for
  hills and longer rides outside.\n\nWorkout 3: Cadence Mastery\nDial in
  your cadence and watch everything else fall into place. This workout will
  have you switching between high and low cadence\, all while keeping power
  steady\, so outdoor riding feels more composed. \n
DTSTART:20260422T010000Z
DTEND:20260422T014500Z
URL:https://cdn.zwift.com/static/events_headers/cycling/special/Zwift-Camp-
 Breakthrough-april-2026.png
CLASS:PUBLIC
LAST-MODIFIED:20260421T093606Z
END:VEVENT
BEGIN:VEVENT
UID:5531812
SUMMARY:[New York] Workout 3 - Zwift Camp: Breakthrough
LOCATION:New York
DESCRIPTION:Outdoor miles are right around the corner\, and these five
  Zwift Camp: Breakthrough workouts get you ready for them. Sharpen your
  speed\, smooth your pedal stroke\, and build the strength you need for
  hills and longer rides outside.\n\nWorkout 3: Cadence Mastery\nDial in
  your cadence and watch everything else fall into place. This workout will
  have you switching between high and low cadence\, all while keeping power
  steady\, so outdoor riding feels more composed. \n
DTSTART:20260422T020000Z
DTEND:20260422T024500Z
URL:https://cdn.zwift.com/static/events_headers/cycling/special/Zwift-Camp-
 Breakthrough-april-2026.png
CLASS:PUBLIC
LAST-MODIFIED:20260421T093606Z
END:VEVENT
BEGIN:VEVENT
UID:5531856
SUMMARY:[New York] Workout 3 - Zwift Camp: Breakthrough
LOCATION:New York
DESCRIPTION:Outdoor miles are right around the corner\, and these five
  Zwift Camp: Breakthrough workouts get you ready for them. Sharpen your
  speed\, smooth your pedal stroke\, and build the strength you need for
  hills and longer rides outside.\n\nWorkout 3: Cadence Mastery\nDial in
  your cadence and watch everything else fall into place. This workout will
  have you switching between high and low cadence\, all while keeping power
  steady\, so outdoor riding feels more composed. \n
DTSTART:20260422T030000Z
DTEND:20260422T034500Z
URL:https://cdn.zwift.com/static/events_headers/cycling/special/Zwift-Camp-
 Breakthrough-april-2026.png
CLASS:PUBLIC
LAST-MODIFIED:20260421T093606Z
END:VEVENT
BEGIN:VEVENT
UID:5531903
SUMMARY:[New York] Workout 3 - Zwift Camp: Breakthrough
LOCATION:New York
DESCRIPTION:Outdoor miles are right around the corner\, and these five
  Zwift Camp: Breakthrough workouts get you ready for them. Sharpen your
  speed\, smooth your pedal stroke\, and build the strength you need for
  hills and longer rides outside.\n\nWorkout 3: Cadence Mastery\nDial in
  your cadence and watch everything else fall into place. This workout will
  have you switching between high and low cadence\, all while keeping power
  steady\, so outdoor riding feels more composed. \n
DTSTART:20260422T040000Z
DTEND:20260422T044500Z
URL:https://cdn.zwift.com/static/events_headers/cycling/special/Zwift-Camp-
 Breakthrough-april-2026.png
CLASS:PUBLIC
LAST-MODIFIED:20260421T093606Z
END:VEVENT
BEGIN:VEVENT
UID:5531788
SUMMARY:[New York] Workout 3 - Zwift Camp: Breakthrough
LOCATION:New York
DESCRIPTION:Outdoor miles are right around the corner\, and these five
  Zwift Camp: Breakthrough workouts get you ready for them. Sharpen your
  speed\, smooth your pedal stroke\, and build the strength you need for
  hills and longer rides outside.\n\nWorkout 3: Cadence Mastery\nDial in
  your cadence and watch everything else fall into place. This workout will
  have you switching between high and low cadence\, all while keeping power
  steady\, so outdoor riding feels more composed. \n
DTSTART:20260422T050000Z
DTEND:20260422T054500Z
URL:https://cdn.zwift.com/static/events_headers/cycling/special/Zwift-Camp-
 Breakthrough-april-2026.png
CLASS:PUBLIC
LAST-MODIFIED:20260421T093606Z
END:VEVENT
BEGIN:VEVENT
UID:5531841
SUMMARY:[New York] Workout 3 - Zwift Camp: Breakthrough
LOCATION:New York
DESCRIPTION:Outdoor miles are right around the corner\, and these five
  Zwift Camp: Breakthrough workouts get you ready for them. Sharpen your
  speed\, smooth your pedal stroke\, and build the strength you need for
  hills and longer rides outside.\n\nWorkout 3: Cadence Mastery\nDial in
  your cadence and watch everything else fall into place. This workout will
  have you switching between high and low cadence\, all while keeping power
  steady\, so outdoor riding feels more composed. \n
DTSTART:20260422T060000Z
DTEND:20260422T064500Z
URL:https://cdn.zwift.com/static/events_headers/cycling/special/Zwift-Camp-
 Breakthrough-april-2026.png
CLASS:PUBLIC
LAST-MODIFIED:20260421T093606Z
END:VEVENT
BEGIN:VEVENT
UID:5531878
SUMMARY:[New York] Workout 3 - Zwift Camp: Breakthrough
LOCATION:New York
DESCRIPTION:Outdoor miles are right around the corner\, and these five
  Zwift Camp: Breakthrough workouts get you ready for them. Sharpen your
  speed\, smooth your pedal stroke\, and build the strength you need for
  hills and longer rides outside.\n\nWorkout 3: Cadence Mastery\nDial in
  your cadence and watch everything else fall into place. This workout will
  have you switching between high and low cadence\, all while keeping power
  steady\, so outdoor riding feels more composed. \n
DTSTART:20260422T070000Z
DTEND:20260422T074500Z
URL:https://cdn.zwift.com/static/events_headers/cycling/special/Zwift-Camp-
 Breakthrough-april-2026.png
CLASS:PUBLIC
LAST-MODIFIED:20260421T093606Z
END:VEVENT
BEGIN:VEVENT
UID:5531743
SUMMARY:[New York] Workout 3 - Zwift Camp: Breakthrough
LOCATION:New York
DESCRIPTION:Outdoor miles are right around the corner\, and these five
  Zwift Camp: Breakthrough workouts get you ready for them. Sharpen your
  speed\, smooth your pedal stroke\, and build the strength you need for
  hills and longer rides outside.\n\nWorkout 3: Cadence Mastery\nDial in
  your cadence and watch everything else fall into place. This workout will
  have you switching between high and low cadence\, all while keeping power
  steady\, so outdoor riding feels more composed. \n
DTSTART:20260422T080000Z
DTEND:20260422T084500Z
URL:https://cdn.zwift.com/static/events_headers/cycling/special/Zwift-Camp-
 Breakthrough-april-2026.png
CLASS:PUBLIC
LAST-MODIFIED:20260421T093606Z
END:VEVENT
BEGIN:VEVENT
UID:5531813
SUMMARY:[New York] Workout 3 - Zwift Camp: Breakthrough
LOCATION:New York
DESCRIPTION:Outdoor miles are right around the corner\, and these five
  Zwift Camp: Breakthrough workouts get you ready for them. Sharpen your
  speed\, smooth your pedal stroke\, and build the strength you need for
  hills and longer rides outside.\n\nWorkout 3: Cadence Mastery\nDial in
  your cadence and watch everything else fall into place. This workout will
  have you switching between high and low cadence\, all while keeping power
  steady\, so outdoor riding feels more composed. \n
DTSTART:20260422T090000Z
DTEND:20260422T094500Z
URL:https://cdn.zwift.com/static/events_headers/cycling/special/Zwift-Camp-
 Breakthrough-april-2026.png
CLASS:PUBLIC
LAST-MODIFIED:20260421T093606Z
END:VEVENT
BEGIN:VEVENT
UID:5531857
SUMMARY:[New York] Workout 3 - Zwift Camp: Breakthrough
LOCATION:New York
DESCRIPTION:Outdoor miles are right around the corner\, and these five
  Zwift Camp: Breakthrough workouts get you ready for them. Sharpen your
  speed\, smooth your pedal stroke\, and build the strength you need for
  hills and longer rides outside.\n\nWorkout 3: Cadence Mastery\nDial in
  your cadence and watch everything else fall into place. This workout will
  have you switching between high and low cadence\, all while keeping power
  steady\, so outdoor riding feels more composed. \n
DTSTART:20260422T100000Z
DTEND:20260422T104500Z
URL:https://cdn.zwift.com/static/events_headers/cycling/special/Zwift-Camp-
 Breakthrough-april-2026.png
CLASS:PUBLIC
LAST-MODIFIED:20260421T093606Z
END:VEVENT
BEGIN:VEVENT
UID:5531904
SUMMARY:[New York] Workout 3 - Zwift Camp: Breakthrough
LOCATION:New York
DESCRIPTION:Outdoor miles are right around the corner\, and these five
  Zwift Camp: Breakthrough workouts get you ready for them. Sharpen your
  speed\, smooth your pedal stroke\, and build the strength you need for
  hills and longer rides outside.\n\nWorkout 3: Cadence Mastery\nDial in
  your cadence and watch everything else fall into place. This workout will
  have you switching between high and low cadence\, all while keeping power
  steady\, so outdoor riding feels more composed. \n
DTSTART:20260422T110000Z
DTEND:20260422T114500Z
URL:https://cdn.zwift.com/static/events_headers/cycling/special/Zwift-Camp-
 Breakthrough-april-2026.png
CLASS:PUBLIC
LAST-MODIFIED:20260421T093606Z
END:VEVENT
BEGIN:VEVENT
UID:5531775
SUMMARY:[New York] Workout 3 - Zwift Camp: Breakthrough
LOCATION:New York
DESCRIPTION:Outdoor miles are right around the corner\, and these five
  Zwift Camp: Breakthrough workouts get you ready for them. Sharpen your
  speed\, smooth your pedal stroke\, and build the strength you need for
  hills and longer rides outside.\n\nWorkout 3: Cadence Mastery\nDial in
  your cadence and watch everything else fall into place. This workout will
  have you switching between high and low cadence\, all while keeping power
  steady\, so outdoor riding feels more composed. \n
DTSTART:20260422T120000Z
DTEND:20260422T124500Z
URL:https://cdn.zwift.com/static/events_headers/cycling/special/Zwift-Camp-
 Breakthrough-april-2026.png
CLASS:PUBLIC
LAST-MODIFIED:20260421T093606Z
END:VEVENT
BEGIN:VEVENT
UID:5531842
SUMMARY:[New York] Workout 3 - Zwift Camp: Breakthrough
LOCATION:New York
DESCRIPTION:Outdoor miles are right around the corner\, and these five
  Zwift Camp: Breakthrough workouts get you ready for them. Sharpen your
  speed\, smooth your pedal stroke\, and build the strength you need for
  hills and longer rides outside.\n\nWorkout 3: Cadence Mastery\nDial in
  your cadence and watch everything else fall into place. This workout will
  have you switching between high and low cadence\, all while keeping power
  steady\, so outdoor riding feels more composed. \n
DTSTART:20260422T130000Z
DTEND:20260422T134500Z
URL:https://cdn.zwift.com/static/events_headers/cycling/special/Zwift-Camp-
 Breakthrough-april-2026.png
CLASS:PUBLIC
LAST-MODIFIED:20260421T093606Z
END:VEVENT
END:VCALENDAR
